BEGIN:VCALENDAR
VERSION:2.0
PRODID:-//Collier Fair &amp; Exposition, Inc. - ECPv6.15.20//NONSGML v1.0//EN
CALSCALE:GREGORIAN
METHOD:PUBLISH
X-ORIGINAL-URL:https://collierfair.com
X-WR-CALDESC:Events for Collier Fair &amp; Exposition, Inc.
REFRESH-INTERVAL;VALUE=DURATION:PT1H
X-Robots-Tag:noindex
X-PUBLISHED-TTL:PT1H
BEGIN:VTIMEZONE
TZID:America/New_York
BEGIN:DAYLIGHT
TZOFFSETFROM:-0500
TZOFFSETTO:-0400
TZNAME:EDT
DTSTART:20240310T070000
END:DAYLIGHT
BEGIN:STANDARD
TZOFFSETFROM:-0400
TZOFFSETTO:-0500
TZNAME:EST
DTSTART:20241103T060000
END:STANDARD
BEGIN:DAYLIGHT
TZOFFSETFROM:-0500
TZOFFSETTO:-0400
TZNAME:EDT
DTSTART:20250309T070000
END:DAYLIGHT
BEGIN:STANDARD
TZOFFSETFROM:-0400
TZOFFSETTO:-0500
TZNAME:EST
DTSTART:20251102T060000
END:STANDARD
BEGIN:DAYLIGHT
TZOFFSETFROM:-0500
TZOFFSETTO:-0400
TZNAME:EDT
DTSTART:20260308T070000
END:DAYLIGHT
BEGIN:STANDARD
TZOFFSETFROM:-0400
TZOFFSETTO:-0500
TZNAME:EST
DTSTART:20261101T060000
END:STANDARD
END:VTIMEZONE
BEGIN:VEVENT
DTSTART;VALUE=DATE:20250826
DTEND;VALUE=DATE:20251103
DTSTAMP:20260423T231833
CREATED:20250826T235831Z
LAST-MODIFIED:20250912T230951Z
UID:13928-1756166400-1762127999@collierfair.com
SUMMARY:Galaxy's Fright Nights Now Hiring
DESCRIPTION:
URL:https://collierfair.com/event/galaxys-fright-nights-now-hiring/
LOCATION:Collier County Fair Grounds\, 751 39th Avenue N.E.\, Naples\, FL\, 34120\, United States
END:VEVENT
END:VCALENDAR