BEGIN:VCALENDAR
VERSION:2.0
PRODID:-//Collier Fair &amp; Exposition, Inc. - ECPv6.15.20//NONSGML v1.0//EN
CALSCALE:GREGORIAN
METHOD:PUBLISH
X-WR-CALNAME:Collier Fair &amp; Exposition, Inc.
X-ORIGINAL-URL:https://collierfair.com
X-WR-CALDESC:Events for Collier Fair &amp; Exposition, Inc.
REFRESH-INTERVAL;VALUE=DURATION:PT1H
X-Robots-Tag:noindex
X-PUBLISHED-TTL:PT1H
BEGIN:VTIMEZONE
TZID:UTC
BEGIN:STANDARD
TZOFFSETFROM:+0000
TZOFFSETTO:+0000
TZNAME:UTC
DTSTART:20240101T000000
END:STANDARD
END:VTIMEZONE
BEGIN:VEVENT
DTSTART;VALUE=DATE:20251128
DTEND;VALUE=DATE:20251225
DTSTAMP:20260422T185147
CREATED:20211127T003035Z
LAST-MODIFIED:20251220T173927Z
UID:287-1764288000-1766620799@collierfair.com
SUMMARY:Christmas Tree Sales
DESCRIPTION:Christmas Tree Sales\nChristmas Trees will be on sale starting 11-28-25 till there gone\, all week from 10am-5pm and then anyone buying a ticket to the Lights of the Season may purchase one from 6:30pm-9 or 10pm depending on the day.
URL:https://collierfair.com/event/christmas-tree-sales/
LOCATION:Collier County Fair Grounds\, 751 39th Avenue N.E.\, Naples\, FL\, 34120\, United States
CATEGORIES:Upcoming Events
END:VEVENT
END:VCALENDAR